Package: PanViz Version: 1.2.0 Command: /Library/Frameworks/R.framework/Resources/bin/R CMD check --install=check:PanViz.install-out.txt --library=/Library/Frameworks/R.framework/Resources/library --no-vignettes --timings PanViz_1.2.0.tar.gz StartedAt: 2023-10-16 05:04:17 -0400 (Mon, 16 Oct 2023) EndedAt: 2023-10-16 05:07:07 -0400 (Mon, 16 Oct 2023) EllapsedTime: 169.2 seconds RetCode: 0 Status: OK CheckDir: PanViz.Rcheck Warnings: 0