Package: PanViz Version: 1.2.0 Command: /Library/Frameworks/R.framework/Resources/bin/R CMD build --keep-empty-dirs --no-resave-data PanViz StartedAt: 2023-10-15 20:08:15 -0400 (Sun, 15 Oct 2023) EndedAt: 2023-10-15 20:09:40 -0400 (Sun, 15 Oct 2023) EllapsedTime: 85.0 seconds RetCode: 0 Status: OK PackageFile: PanViz_1.2.0.tar.gz PackageFileSize: 2.188 MiB