Package: PSEA Version: 1.34.0 Command: rm -rf PSEA.buildbin-libdir && mkdir PSEA.buildbin-libdir && F:\biocbuild\bbs-3.17-bioc\R\bin\R.exe CMD INSTALL --build --library=PSEA.buildbin-libdir PSEA_1.34.0.tar.gz StartedAt: 2023-10-16 09:18:13 -0400 (Mon, 16 Oct 2023) EndedAt: 2023-10-16 09:18:22 -0400 (Mon, 16 Oct 2023) EllapsedTime: 8.7 seconds RetCode: 0 Status: OK PackageFile: PSEA_1.34.0.zip PackageFileSize: 6.165 MiB