Package: PSEA Version: 1.34.0 Command: /home/biocbuild/bbs-3.17-bioc/R/bin/R CMD check --install=check:PSEA.install-out.txt --library=/home/biocbuild/bbs-3.17-bioc/R/site-library --timings PSEA_1.34.0.tar.gz StartedAt: 2023-10-16 00:04:12 -0400 (Mon, 16 Oct 2023) EndedAt: 2023-10-16 00:04:47 -0400 (Mon, 16 Oct 2023) EllapsedTime: 35.0 seconds RetCode: 0 Status: WARNINGS CheckDir: PSEA.Rcheck Warnings: 1