Package: PSEA Version: 1.34.0 Command: /home/biocbuild/bbs-3.17-bioc/R/bin/R CMD build --keep-empty-dirs --no-resave-data PSEA StartedAt: 2023-10-15 18:02:14 -0400 (Sun, 15 Oct 2023) EndedAt: 2023-10-15 18:03:06 -0400 (Sun, 15 Oct 2023) EllapsedTime: 51.8 seconds RetCode: 0 Status: OK PackageFile: PSEA_1.34.0.tar.gz PackageFileSize: 6.121 MiB