Package: PSEA Version: 1.34.0 Command: rm -rf PSEA.buildbin-libdir && mkdir PSEA.buildbin-libdir && /Users/biocbuild/BBS/utils/build-universal.sh PSEA_1.34.0.tar.gz /Library/Frameworks/R.framework/Resources/bin/R PSEA.buildbin-libdir StartedAt: 2023-10-16 09:57:58 -0400 (Mon, 16 Oct 2023) EndedAt: 2023-10-16 09:58:10 -0400 (Mon, 16 Oct 2023) EllapsedTime: 12.3 seconds RetCode: 0 Status: OK PackageFile: PSEA_1.34.0.tgz PackageFileSize: 6.16 MiB