Package: PROPS Version: 1.22.0 Command: /home/biocbuild/bbs-3.17-bioc/R/bin/R CMD INSTALL PROPS StartedAt: 2023-10-15 15:35:29 -0400 (Sun, 15 Oct 2023) EndedAt: 2023-10-15 15:35:48 -0400 (Sun, 15 Oct 2023) EllapsedTime: 19.4 seconds RetCode: 0 Status: OK