Package: PROPER Version: 1.32.0 Command: F:\biocbuild\bbs-3.17-bioc\R\bin\R.exe CMD INSTALL PROPER StartedAt: 2023-10-15 15:56:05 -0400 (Sun, 15 Oct 2023) EndedAt: 2023-10-15 15:56:10 -0400 (Sun, 15 Oct 2023) EllapsedTime: 5.1 seconds RetCode: 0 Status: OK