Package: PROPER Version: 1.32.0 Command: chmod a+r PROPER -R && F:\biocbuild\bbs-3.17-bioc\R\bin\R.exe CMD build --keep-empty-dirs --no-resave-data PROPER StartedAt: 2023-10-15 21:29:15 -0400 (Sun, 15 Oct 2023) EndedAt: 2023-10-15 21:29:28 -0400 (Sun, 15 Oct 2023) EllapsedTime: 13.2 seconds RetCode: 0 Status: OK PackageFile: PROPER_1.32.0.tar.gz PackageFileSize: 1.801 MiB