Package: PROPER Version: 1.32.0 Command: rm -rf PROPER.buildbin-libdir && mkdir PROPER.buildbin-libdir && F:\biocbuild\bbs-3.17-bioc\R\bin\R.exe CMD INSTALL --build --library=PROPER.buildbin-libdir PROPER_1.32.0.tar.gz StartedAt: 2023-10-16 09:17:54 -0400 (Mon, 16 Oct 2023) EndedAt: 2023-10-16 09:17:59 -0400 (Mon, 16 Oct 2023) EllapsedTime: 5.1 seconds RetCode: 0 Status: OK PackageFile: PROPER_1.32.0.zip PackageFileSize: 1.576 MiB