Package: PROMISE Version: 1.52.0 Command: /home/biocbuild/bbs-3.17-bioc/R/bin/R CMD build --keep-empty-dirs --no-resave-data PROMISE StartedAt: 2023-10-15 18:01:47 -0400 (Sun, 15 Oct 2023) EndedAt: 2023-10-15 18:02:10 -0400 (Sun, 15 Oct 2023) EllapsedTime: 22.8 seconds RetCode: 0 Status: OK PackageFile: PROMISE_1.52.0.tar.gz PackageFileSize: 135.4 KiB