Package: PREDA Version: 1.46.0 Command: rm -rf PREDA.buildbin-libdir && mkdir PREDA.buildbin-libdir && /Users/biocbuild/BBS/utils/build-universal.sh PREDA_1.46.0.tar.gz /Library/Frameworks/R.framework/Resources/bin/R PREDA.buildbin-libdir StartedAt: 2023-10-16 09:56:51 -0400 (Mon, 16 Oct 2023) EndedAt: 2023-10-16 09:58:08 -0400 (Mon, 16 Oct 2023) EllapsedTime: 77.0 seconds RetCode: 0 Status: OK PackageFile: PREDA_1.46.0.tgz PackageFileSize: 1.992 MiB