Package: POWSC Version: 1.8.0 Command: rm -rf POWSC.buildbin-libdir && mkdir POWSC.buildbin-libdir && F:\biocbuild\bbs-3.17-bioc\R\bin\R.exe CMD INSTALL --build --library=POWSC.buildbin-libdir POWSC_1.8.0.tar.gz StartedAt: 2023-10-16 09:16:45 -0400 (Mon, 16 Oct 2023) EndedAt: 2023-10-16 09:17:16 -0400 (Mon, 16 Oct 2023) EllapsedTime: 31.1 seconds RetCode: 0 Status: OK PackageFile: POWSC_1.8.0.zip PackageFileSize: 1.378 MiB