Package: POWSC Version: 1.8.0 Command: /home/biocbuild/bbs-3.17-bioc/R/bin/R CMD check --install=check:POWSC.install-out.txt --library=/home/biocbuild/bbs-3.17-bioc/R/site-library --timings POWSC_1.8.0.tar.gz StartedAt: 2023-10-15 23:58:01 -0400 (Sun, 15 Oct 2023) EndedAt: 2023-10-16 00:02:59 -0400 (Mon, 16 Oct 2023) EllapsedTime: 297.6 seconds RetCode: 0 Status: OK CheckDir: POWSC.Rcheck Warnings: 0