Package: POWSC Version: 1.8.0 Command: rm -rf POWSC.buildbin-libdir && mkdir POWSC.buildbin-libdir && /Users/biocbuild/BBS/utils/build-universal.sh POWSC_1.8.0.tar.gz /Library/Frameworks/R.framework/Resources/bin/R POWSC.buildbin-libdir StartedAt: 2023-10-16 09:56:32 -0400 (Mon, 16 Oct 2023) EndedAt: 2023-10-16 09:57:58 -0400 (Mon, 16 Oct 2023) EllapsedTime: 86.5 seconds RetCode: 0 Status: OK PackageFile: POWSC_1.8.0.tgz PackageFileSize: 1.392 MiB