Package: POMA Version: 1.10.0 Command: F:\biocbuild\bbs-3.17-bioc\R\bin\R.exe CMD INSTALL POMA StartedAt: 2023-10-15 16:49:03 -0400 (Sun, 15 Oct 2023) EndedAt: 2023-10-15 16:49:10 -0400 (Sun, 15 Oct 2023) EllapsedTime: 7.1 seconds RetCode: 0 Status: OK