Package: POMA Version: 1.10.0 Command: /home/biocbuild/bbs-3.17-bioc/R/bin/R CMD build --keep-empty-dirs --no-resave-data POMA StartedAt: 2023-10-15 17:59:33 -0400 (Sun, 15 Oct 2023) EndedAt: 2023-10-15 18:00:33 -0400 (Sun, 15 Oct 2023) EllapsedTime: 59.7 seconds RetCode: 0 Status: OK PackageFile: POMA_1.10.0.tar.gz PackageFileSize: 4.037 MiB