Package: POMA Version: 1.10.0 Command: /Library/Frameworks/R.framework/Resources/bin/R CMD check --install=check:POMA.install-out.txt --library=/Library/Frameworks/R.framework/Resources/library --no-vignettes --timings POMA_1.10.0.tar.gz StartedAt: 2023-10-16 05:24:05 -0400 (Mon, 16 Oct 2023) EndedAt: 2023-10-16 05:40:11 -0400 (Mon, 16 Oct 2023) EllapsedTime: 965.3 seconds RetCode: 0 Status: OK CheckDir: POMA.Rcheck Warnings: 0