Package: POMA Version: 1.10.0 Command: rm -rf POMA.buildbin-libdir && mkdir POMA.buildbin-libdir && /Users/biocbuild/BBS/utils/build-universal.sh POMA_1.10.0.tar.gz /Library/Frameworks/R.framework/Resources/bin/R POMA.buildbin-libdir StartedAt: 2023-10-16 09:56:29 -0400 (Mon, 16 Oct 2023) EndedAt: 2023-10-16 09:56:43 -0400 (Mon, 16 Oct 2023) EllapsedTime: 14.6 seconds RetCode: 0 Status: OK PackageFile: POMA_1.10.0.tgz PackageFileSize: 4.573 MiB