Package: PING Version: 2.44.0 Command: F:\biocbuild\bbs-3.17-bioc\R\bin\R.exe CMD INSTALL PING StartedAt: 2023-10-15 17:01:19 -0400 (Sun, 15 Oct 2023) EndedAt: 2023-10-15 17:02:26 -0400 (Sun, 15 Oct 2023) EllapsedTime: 66.3 seconds RetCode: 0 Status: OK