Package: PING Version: 2.44.0 Command: /home/biocbuild/bbs-3.17-bioc/R/bin/R CMD INSTALL PING StartedAt: 2023-10-15 15:47:39 -0400 (Sun, 15 Oct 2023) EndedAt: 2023-10-15 15:48:35 -0400 (Sun, 15 Oct 2023) EllapsedTime: 55.4 seconds RetCode: 0 Status: OK