Package: PING Version: 2.44.0 Command: /Library/Frameworks/R.framework/Resources/bin/R CMD INSTALL PING StartedAt: 2023-10-15 16:27:30 -0400 (Sun, 15 Oct 2023) EndedAt: 2023-10-15 16:30:22 -0400 (Sun, 15 Oct 2023) EllapsedTime: 171.8 seconds RetCode: 0 Status: OK