Package: PING Version: 2.44.0 Command: /Library/Frameworks/R.framework/Resources/bin/R CMD check --install=check:PING.install-out.txt --library=/Library/Frameworks/R.framework/Resources/library --no-vignettes --timings PING_2.44.0.tar.gz StartedAt: 2023-10-16 05:17:59 -0400 (Mon, 16 Oct 2023) EndedAt: 2023-10-16 05:30:21 -0400 (Mon, 16 Oct 2023) EllapsedTime: 742.0 seconds RetCode: 0 Status: WARNINGS CheckDir: PING.Rcheck Warnings: 4