Package: PING Version: 2.44.0 Command: /Library/Frameworks/R.framework/Resources/bin/R CMD build --keep-empty-dirs --no-resave-data PING StartedAt: 2023-10-15 20:18:19 -0400 (Sun, 15 Oct 2023) EndedAt: 2023-10-15 20:18:23 -0400 (Sun, 15 Oct 2023) EllapsedTime: 4.0 seconds RetCode: 0 Status: OK PackageFile: PING_2.44.0.tar.gz PackageFileSize: 4.51 MiB