Package: PING Version: 2.44.0 Command: rm -rf PING.buildbin-libdir && mkdir PING.buildbin-libdir && /Users/biocbuild/BBS/utils/build-universal.sh PING_2.44.0.tar.gz /Library/Frameworks/R.framework/Resources/bin/R PING.buildbin-libdir StartedAt: 2023-10-16 09:55:37 -0400 (Mon, 16 Oct 2023) EndedAt: 2023-10-16 09:58:43 -0400 (Mon, 16 Oct 2023) EllapsedTime: 186.4 seconds RetCode: 0 Status: OK PackageFile: PING_2.44.0.tgz PackageFileSize: 5.577 MiB