Package: PICS Version: 2.44.0 Command: F:\biocbuild\bbs-3.17-bioc\R\bin\R.exe CMD INSTALL PICS StartedAt: 2023-10-15 16:08:46 -0400 (Sun, 15 Oct 2023) EndedAt: 2023-10-15 16:09:29 -0400 (Sun, 15 Oct 2023) EllapsedTime: 42.6 seconds RetCode: 0 Status: OK