Package: PICS Version: 2.44.0 Command: /Library/Frameworks/R.framework/Resources/bin/R CMD INSTALL PICS StartedAt: 2023-10-15 15:26:13 -0400 (Sun, 15 Oct 2023) EndedAt: 2023-10-15 15:28:04 -0400 (Sun, 15 Oct 2023) EllapsedTime: 110.1 seconds RetCode: 0 Status: OK