Package: PICS Version: 2.44.0 Command: /Library/Frameworks/R.framework/Resources/bin/R CMD check --install=check:PICS.install-out.txt --library=/Library/Frameworks/R.framework/Resources/library --no-vignettes --timings PICS_2.44.0.tar.gz StartedAt: 2023-10-16 05:17:41 -0400 (Mon, 16 Oct 2023) EndedAt: 2023-10-16 05:24:43 -0400 (Mon, 16 Oct 2023) EllapsedTime: 422.4 seconds RetCode: 0 Status: OK CheckDir: PICS.Rcheck Warnings: 0