Package: PICS Version: 2.44.0 Command: /Library/Frameworks/R.framework/Resources/bin/R CMD build --keep-empty-dirs --no-resave-data PICS StartedAt: 2023-10-15 20:17:52 -0400 (Sun, 15 Oct 2023) EndedAt: 2023-10-15 20:20:33 -0400 (Sun, 15 Oct 2023) EllapsedTime: 160.7 seconds RetCode: 0 Status: OK PackageFile: PICS_2.44.0.tar.gz PackageFileSize: 702.2 KiB