Package: PICS Version: 2.44.0 Command: rm -rf PICS.buildbin-libdir && mkdir PICS.buildbin-libdir && /Users/biocbuild/BBS/utils/build-universal.sh PICS_2.44.0.tar.gz /Library/Frameworks/R.framework/Resources/bin/R PICS.buildbin-libdir StartedAt: 2023-10-16 09:55:35 -0400 (Mon, 16 Oct 2023) EndedAt: 2023-10-16 09:57:19 -0400 (Mon, 16 Oct 2023) EllapsedTime: 103.9 seconds RetCode: 0 Status: OK PackageFile: PICS_2.44.0.tgz PackageFileSize: 1.623 MiB