Package: PECA Version: 1.36.0 Command: F:\biocbuild\bbs-3.17-bioc\R\bin\R.exe CMD check --no-multiarch --install=check:PECA.install-out.txt --library=F:\biocbuild\bbs-3.17-bioc\R\library --no-vignettes --timings PECA_1.36.0.tar.gz StartedAt: 2023-10-16 05:12:21 -0400 (Mon, 16 Oct 2023) EndedAt: 2023-10-16 05:14:46 -0400 (Mon, 16 Oct 2023) EllapsedTime: 145.2 seconds RetCode: 0 Status: OK CheckDir: PECA.Rcheck Warnings: 0