Package: PECA Version: 1.36.0 Command: /home/biocbuild/bbs-3.17-bioc/R/bin/R CMD check --install=check:PECA.install-out.txt --library=/home/biocbuild/bbs-3.17-bioc/R/site-library --timings PECA_1.36.0.tar.gz StartedAt: 2023-10-15 23:49:12 -0400 (Sun, 15 Oct 2023) EndedAt: 2023-10-15 23:52:30 -0400 (Sun, 15 Oct 2023) EllapsedTime: 197.5 seconds RetCode: 0 Status: OK CheckDir: PECA.Rcheck Warnings: 0