Package: PECA Version: 1.36.0 Command: /home/biocbuild/bbs-3.17-bioc/R/bin/R CMD build --keep-empty-dirs --no-resave-data PECA StartedAt: 2023-10-15 17:55:41 -0400 (Sun, 15 Oct 2023) EndedAt: 2023-10-15 17:56:37 -0400 (Sun, 15 Oct 2023) EllapsedTime: 56.0 seconds RetCode: 0 Status: OK PackageFile: PECA_1.36.0.tar.gz PackageFileSize: 126.2 KiB