Package: PECA Version: 1.36.0 Command: rm -rf PECA.buildbin-libdir && mkdir PECA.buildbin-libdir && /Users/biocbuild/BBS/utils/build-universal.sh PECA_1.36.0.tar.gz /Library/Frameworks/R.framework/Resources/bin/R PECA.buildbin-libdir StartedAt: 2023-10-16 09:54:33 -0400 (Mon, 16 Oct 2023) EndedAt: 2023-10-16 09:55:49 -0400 (Mon, 16 Oct 2023) EllapsedTime: 76.0 seconds RetCode: 0 Status: OK PackageFile: PECA_1.36.0.tgz PackageFileSize: 224 KiB