Package: PDATK Version: 1.8.0 Command: chmod a+r PDATK -R && F:\biocbuild\bbs-3.17-bioc\R\bin\R.exe CMD build --keep-empty-dirs --no-resave-data PDATK StartedAt: 2023-10-15 21:16:40 -0400 (Sun, 15 Oct 2023) EndedAt: 2023-10-15 21:26:15 -0400 (Sun, 15 Oct 2023) EllapsedTime: 574.3 seconds RetCode: 0 Status: OK PackageFile: PDATK_1.8.0.tar.gz PackageFileSize: 1.676 MiB