Package: PDATK Version: 1.8.0 Command: /home/biocbuild/bbs-3.17-bioc/R/bin/R CMD check --install=check:PDATK.install-out.txt --library=/home/biocbuild/bbs-3.17-bioc/R/site-library --timings PDATK_1.8.0.tar.gz StartedAt: 2023-10-15 23:48:16 -0400 (Sun, 15 Oct 2023) EndedAt: 2023-10-15 23:55:09 -0400 (Sun, 15 Oct 2023) EllapsedTime: 413.0 seconds RetCode: 0 Status: WARNINGS CheckDir: PDATK.Rcheck Warnings: 2