Package: PDATK Version: 1.8.0 Command: /Library/Frameworks/R.framework/Resources/bin/R CMD check --install=check:PDATK.install-out.txt --library=/Library/Frameworks/R.framework/Resources/library --no-vignettes --timings PDATK_1.8.0.tar.gz StartedAt: 2023-10-16 05:08:55 -0400 (Mon, 16 Oct 2023) EndedAt: 2023-10-16 05:22:04 -0400 (Mon, 16 Oct 2023) EllapsedTime: 789.6 seconds RetCode: 0 Status: WARNINGS CheckDir: PDATK.Rcheck Warnings: 2