Package: PDATK Version: 1.8.0 Command: /Library/Frameworks/R.framework/Resources/bin/R CMD build --keep-empty-dirs --no-resave-data PDATK StartedAt: 2023-10-15 20:11:50 -0400 (Sun, 15 Oct 2023) EndedAt: 2023-10-15 20:16:55 -0400 (Sun, 15 Oct 2023) EllapsedTime: 305.3 seconds RetCode: 0 Status: OK PackageFile: PDATK_1.8.0.tar.gz PackageFileSize: 2.761 MiB