Package: PDATK Version: 1.8.0 Command: rm -rf PDATK.buildbin-libdir && mkdir PDATK.buildbin-libdir && /Users/biocbuild/BBS/utils/build-universal.sh PDATK_1.8.0.tar.gz /Library/Frameworks/R.framework/Resources/bin/R PDATK.buildbin-libdir StartedAt: 2023-10-16 09:54:25 -0400 (Mon, 16 Oct 2023) EndedAt: 2023-10-16 09:56:51 -0400 (Mon, 16 Oct 2023) EllapsedTime: 146.2 seconds RetCode: 0 Status: OK PackageFile: PDATK_1.8.0.tgz PackageFileSize: 3.614 MiB