Package: PCAtools Version: 2.12.0 Command: chmod a+r PCAtools -R && F:\biocbuild\bbs-3.17-bioc\R\bin\R.exe CMD build --keep-empty-dirs --no-resave-data PCAtools StartedAt: 2023-10-15 21:16:18 -0400 (Sun, 15 Oct 2023) EndedAt: 2023-10-15 21:19:43 -0400 (Sun, 15 Oct 2023) EllapsedTime: 204.9 seconds RetCode: 0 Status: OK PackageFile: PCAtools_2.12.0.tar.gz PackageFileSize: 7.505 MiB