Package: PCAtools Version: 2.12.0 Command: rm -rf PCAtools.buildbin-libdir && mkdir PCAtools.buildbin-libdir && F:\biocbuild\bbs-3.17-bioc\R\bin\R.exe CMD INSTALL --build --library=PCAtools.buildbin-libdir PCAtools_2.12.0.tar.gz StartedAt: 2023-10-16 09:14:49 -0400 (Mon, 16 Oct 2023) EndedAt: 2023-10-16 09:15:36 -0400 (Mon, 16 Oct 2023) EllapsedTime: 46.7 seconds RetCode: 0 Status: OK PackageFile: PCAtools_2.12.0.zip PackageFileSize: 2.631 MiB