Package: PCAtools Version: 2.12.0 Command: /home/biocbuild/bbs-3.17-bioc/R/bin/R CMD check --install=check:PCAtools.install-out.txt --library=/home/biocbuild/bbs-3.17-bioc/R/site-library --timings PCAtools_2.12.0.tar.gz StartedAt: 2023-10-15 23:47:02 -0400 (Sun, 15 Oct 2023) EndedAt: 2023-10-15 23:53:55 -0400 (Sun, 15 Oct 2023) EllapsedTime: 412.7 seconds RetCode: 0 Status: OK CheckDir: PCAtools.Rcheck Warnings: 0