Package: PCAtools Version: 2.12.0 Command: /Library/Frameworks/R.framework/Resources/bin/R CMD INSTALL PCAtools StartedAt: 2023-10-15 16:15:50 -0400 (Sun, 15 Oct 2023) EndedAt: 2023-10-15 16:17:33 -0400 (Sun, 15 Oct 2023) EllapsedTime: 103.5 seconds RetCode: 0 Status: OK