Package: PCAN Version: 1.28.0 Command: rm -rf PCAN.buildbin-libdir && mkdir PCAN.buildbin-libdir && F:\biocbuild\bbs-3.17-bioc\R\bin\R.exe CMD INSTALL --build --library=PCAN.buildbin-libdir PCAN_1.28.0.tar.gz StartedAt: 2023-10-16 09:14:48 -0400 (Mon, 16 Oct 2023) EndedAt: 2023-10-16 09:14:54 -0400 (Mon, 16 Oct 2023) EllapsedTime: 7.0 seconds RetCode: 0 Status: OK PackageFile: PCAN_1.28.0.zip PackageFileSize: 2.235 MiB