Package: PAST Version: 1.16.0 Command: F:\biocbuild\bbs-3.17-bioc\R\bin\R.exe CMD check --no-multiarch --install=check:PAST.install-out.txt --library=F:\biocbuild\bbs-3.17-bioc\R\library --no-vignettes --timings PAST_1.16.0.tar.gz StartedAt: 2023-10-16 05:08:51 -0400 (Mon, 16 Oct 2023) EndedAt: 2023-10-16 05:16:22 -0400 (Mon, 16 Oct 2023) EllapsedTime: 450.5 seconds RetCode: 0 Status: WARNINGS CheckDir: PAST.Rcheck Warnings: 2