Package: PAST Version: 1.16.0 Command: rm -rf PAST.buildbin-libdir && mkdir PAST.buildbin-libdir && F:\biocbuild\bbs-3.17-bioc\R\bin\R.exe CMD INSTALL --build --library=PAST.buildbin-libdir PAST_1.16.0.tar.gz StartedAt: 2023-10-16 09:14:29 -0400 (Mon, 16 Oct 2023) EndedAt: 2023-10-16 09:15:05 -0400 (Mon, 16 Oct 2023) EllapsedTime: 35.9 seconds RetCode: 0 Status: OK PackageFile: PAST_1.16.0.zip PackageFileSize: 1012 KiB