Package: PAST Version: 1.16.0 Command: /home/biocbuild/bbs-3.17-bioc/R/bin/R CMD check --install=check:PAST.install-out.txt --library=/home/biocbuild/bbs-3.17-bioc/R/site-library --timings PAST_1.16.0.tar.gz StartedAt: 2023-10-15 23:43:12 -0400 (Sun, 15 Oct 2023) EndedAt: 2023-10-15 23:55:49 -0400 (Sun, 15 Oct 2023) EllapsedTime: 756.7 seconds RetCode: 0 Status: WARNINGS CheckDir: PAST.Rcheck Warnings: 2