Package: PAST Version: 1.16.0 Command: /Library/Frameworks/R.framework/Resources/bin/R CMD INSTALL PAST StartedAt: 2023-10-15 15:28:39 -0400 (Sun, 15 Oct 2023) EndedAt: 2023-10-15 15:30:15 -0400 (Sun, 15 Oct 2023) EllapsedTime: 96.1 seconds RetCode: 0 Status: OK