Package: PAST Version: 1.16.0 Command: /Library/Frameworks/R.framework/Resources/bin/R CMD build --keep-empty-dirs --no-resave-data PAST StartedAt: 2023-10-15 20:08:59 -0400 (Sun, 15 Oct 2023) EndedAt: 2023-10-15 20:16:14 -0400 (Sun, 15 Oct 2023) EllapsedTime: 434.6 seconds RetCode: 0 Status: OK PackageFile: PAST_1.16.0.tar.gz PackageFileSize: 954.2 KiB