Package: PANR Version: 1.46.0 Command: rm -rf PANR.buildbin-libdir && mkdir PANR.buildbin-libdir && /Users/biocbuild/BBS/utils/build-universal.sh PANR_1.46.0.tar.gz /Library/Frameworks/R.framework/Resources/bin/R PANR.buildbin-libdir StartedAt: 2023-10-16 09:53:43 -0400 (Mon, 16 Oct 2023) EndedAt: 2023-10-16 09:54:07 -0400 (Mon, 16 Oct 2023) EllapsedTime: 23.9 seconds RetCode: 0 Status: OK PackageFile: PANR_1.46.0.tgz PackageFileSize: 2.135 MiB